BEGIN:VCALENDAR
VERSION:2.0
PRODID:icalendar-ruby
CALSCALE:GREGORIAN
METHOD:PUBLISH
BEGIN:VEVENT
DTSTAMP:20260424T172646Z
UID:57-781677@hopecrozet.org
DTSTART:20260607T140000Z
DTEND:20260607T190000Z
CLASS:PUBLIC
CREATED:20260415T131541
DESCRIPTION:Join us at Mint Springs for our annual Family Day! We’ll begi
 n with a worship service\, followed by a picnic lunch. Afterward\, enjoy l
 awn games or take time to relax and connect with other Hope attenders. We
 ’d love to see you there! Don’t forget to bring a lawn chair.
LAST-MODIFIED:20260415T131541
LOCATION:Mint Springs Park- Shelter #1
SUMMARY:Hope Family Day
URL;VALUE=URI:https://hopecrozet.org/events/hope-family-day--57/2026-06-07
END:VEVENT
END:VCALENDAR
